BEGIN:VCALENDAR
VERSION:2.0
PRODID:-//Department Of Education//4689eced-dbfd-498e-9133-819113c86785
BEGIN:VTIMEZONE
TZID:Australia/Sydney
TZURL:http://tzurl.org/zoneinfo-outlook/Australia/Sydney
X-LIC-LOCATION:Australia/Sydney
BEGIN:STANDARD
TZOFFSETFROM:+1100
TZOFFSETTO:+1000
TZNAME:AEST
DTSTART:19700405T030000
RRULE:FREQ=YEARLY;BYMONTH=4;BYDAY=1SU
END:STANDARD
BEGIN:DAYLIGHT
TZOFFSETFROM:+1000
TZOFFSETTO:+1100
TZNAME:AEDT
DTSTART:19701004T020000
RRULE:FREQ=YEARLY;BYMONTH=10;BYDAY=1SU
END:DAYLIGHT
END:VTIMEZONE
CALSCALE:GREGORIAN
X-WR-TIMEZONE:Australia/Sydney
BEGIN:VEVENT
DTSTART;TZID=Australia/Sydney:20200212T150052
DTEND;TZID=Australia/Sydney:20200212T160000
DTSTAMP:20200212T000000Z
UID:f1ed7d99-a0a4-4ea5-92eb-17c5d4d26dbf
LOCATION:School Library
SUMMARY;LANGUAGE=en-us:Homework Centre
RRULE:FREQ=WEEKLY;INTERVAL=1;UNTIL=20200408;
SEQUENCE:0
DESCRIPTION:The Homework Centre is located in the school library and is run by Mrs Gillett. Please make sure your child has his/her homework ready. Parents and carers please make sure you pick your child/children up from the library. Thank you 
END:VEVENT
TRANSP:TRANSPARENT
END:VCALENDAR
