BEGIN:VCALENDAR
VERSION:2.0
PRODID:-//Department Of Education//a1a7ed0d-d875-43b8-bbd7-9a7c0b4b2f38
BEGIN:VTIMEZONE
TZID:Australia/Sydney
TZURL:http://tzurl.org/zoneinfo-outlook/Australia/Sydney
X-LIC-LOCATION:Australia/Sydney
BEGIN:STANDARD
TZOFFSETFROM:+1100
TZOFFSETTO:+1000
TZNAME:AEST
DTSTART:19700405T030000
RRULE:FREQ=YEARLY;BYMONTH=4;BYDAY=1SU
END:STANDARD
BEGIN:DAYLIGHT
TZOFFSETFROM:+1000
TZOFFSETTO:+1100
TZNAME:AEDT
DTSTART:19701004T020000
RRULE:FREQ=YEARLY;BYMONTH=10;BYDAY=1SU
END:DAYLIGHT
END:VTIMEZONE
CALSCALE:GREGORIAN
X-WR-TIMEZONE:Australia/Sydney
BEGIN:VEVENT
DTSTART;TZID=Australia/Sydney:20200303T084533
DTEND;TZID=Australia/Sydney:20200303T143042
DTSTAMP:20200303T000000Z
UID:7465a4bc-3a6d-40af-86b5-4aaa2b6b377c
LOCATION:Wyoming Public School Stage 2 basement
SUMMARY;LANGUAGE=en-us:AECG Day Camp
SEQUENCE:0
DESCRIPTION:Aboriginal students in Stages 2 and 3 are invited to attend the AECG Day Camp at the Great Aussie Camp, Kincumber. Students need to meet at school at 8:45am in the Stage 2 basement and will return to school before the bell. Please see Mrs Setchell for further information.
END:VEVENT
TRANSP:TRANSPARENT
END:VCALENDAR
