BEGIN:VCALENDAR
VERSION:2.0
PRODID:-//Department Of Education//4a9088ad-0698-4747-82c5-762cb0926134
BEGIN:VTIMEZONE
TZID:Australia/Sydney
TZURL:http://tzurl.org/zoneinfo-outlook/Australia/Sydney
X-LIC-LOCATION:Australia/Sydney
BEGIN:STANDARD
TZOFFSETFROM:+1100
TZOFFSETTO:+1000
TZNAME:AEST
DTSTART:19700405T030000
RRULE:FREQ=YEARLY;BYMONTH=4;BYDAY=1SU
END:STANDARD
BEGIN:DAYLIGHT
TZOFFSETFROM:+1000
TZOFFSETTO:+1100
TZNAME:AEDT
DTSTART:19701004T020000
RRULE:FREQ=YEARLY;BYMONTH=10;BYDAY=1SU
END:DAYLIGHT
END:VTIMEZONE
CALSCALE:GREGORIAN
X-WR-TIMEZONE:Australia/Sydney
BEGIN:VEVENT
DTSTART;VALUE=DATE:20200306
DTEND;VALUE=DATE:20200307
DTSTAMP:20200306T000000Z
UID:f7c088f0-b6b5-4127-af5c-2e60d804b08c
LOCATION:Peninsula Leisure Centre Woy Woy
SUMMARY;LANGUAGE=en-us:BWPSSA Swimming Carnival
SEQUENCE:0
DESCRIPTION:Nominated students only to attend this event.  Please see Mrs Lenton for further information.
END:VEVENT
TRANSP:TRANSPARENT
END:VCALENDAR
