BEGIN:VCALENDAR
VERSION:2.0
PRODID:-//Department Of Education//880e2f96-f516-4ff3-89f2-4fb61f431169
BEGIN:VTIMEZONE
TZID:Australia/Sydney
TZURL:http://tzurl.org/zoneinfo-outlook/Australia/Sydney
X-LIC-LOCATION:Australia/Sydney
BEGIN:STANDARD
TZOFFSETFROM:+1100
TZOFFSETTO:+1000
TZNAME:AEST
DTSTART:19700405T030000
RRULE:FREQ=YEARLY;BYMONTH=4;BYDAY=1SU
END:STANDARD
BEGIN:DAYLIGHT
TZOFFSETFROM:+1000
TZOFFSETTO:+1100
TZNAME:AEDT
DTSTART:19701004T020000
RRULE:FREQ=YEARLY;BYMONTH=10;BYDAY=1SU
END:DAYLIGHT
END:VTIMEZONE
CALSCALE:GREGORIAN
X-WR-TIMEZONE:Australia/Sydney
BEGIN:VEVENT
DTSTART;TZID=Australia/Sydney:20200304T160059
DTEND;TZID=Australia/Sydney:20200304T180033
DTSTAMP:20200304T000000Z
UID:92f5148f-ca6b-4e68-a73b-c94d718489d9
LOCATION:Wyoming Public School
SUMMARY;LANGUAGE=en-us:Family Feast
SEQUENCE:0
DESCRIPTION:All families are welcome to attend our first Family Feast of the year.  Its a great opportunity to meet other families at our wonderful school, sit down, relax and have a delicious dinner! Stay tuned for more information in the following weeks or see the office ladies or Mrs Francis with any questions.  
END:VEVENT
TRANSP:TRANSPARENT
END:VCALENDAR
